BEGIN:VCALENDAR
VERSION:2.0
PRODID:-//Northwest Connection - Family Resources - Serving 14 Counties and 7 Tribes in Northern Wisconsin - ECPv6.15.14//NONSGML v1.0//EN
CALSCALE:GREGORIAN
METHOD:PUBLISH
X-WR-CALNAME:Northwest Connection - Family Resources - Serving 14 Counties and 7 Tribes in Northern Wisconsin
X-ORIGINAL-URL:https://www.wisconsinchild.org
X-WR-CALDESC:Events for Northwest Connection - Family Resources - Serving 14 Counties and 7 Tribes in Northern Wisconsin
REFRESH-INTERVAL;VALUE=DURATION:PT1H
X-Robots-Tag:noindex
X-PUBLISHED-TTL:PT1H
BEGIN:VTIMEZONE
TZID:UTC
BEGIN:STANDARD
TZOFFSETFROM:+0000
TZOFFSETTO:+0000
TZNAME:UTC
DTSTART:20240101T000000
END:STANDARD
END:VTIMEZONE
BEGIN:VEVENT
DTSTART;TZID=UTC:20250918T123000
DTEND;TZID=UTC:20250918T143000
DTSTAMP:20260424T163359
CREATED:20250807T150751Z
LAST-MODIFIED:20250807T150751Z
UID:4952-1758198600-1758205800@www.wisconsinchild.org
SUMMARY:Rest Periods Understanding Licensing Rules-Virtual
DESCRIPTION:Rest Periods \nFREE for SDA Child Care Providers \n$10 for all others.
URL:https://www.wisconsinchild.org/event/rest-periods-understanding-licensing-rules-virtual/
LOCATION:ZOOM
CATEGORIES:Provider Calendar
END:VEVENT
BEGIN:VEVENT
DTSTART;TZID=UTC:20250915T110000
DTEND;TZID=UTC:20250915T170000
DTSTAMP:20260424T163359
CREATED:20250807T154621Z
LAST-MODIFIED:20250807T154621Z
UID:4985-1757934000-1757955600@www.wisconsinchild.org
SUMMARY:Diaper Pick-Up
DESCRIPTION:
URL:https://www.wisconsinchild.org/event/diaper-pick-up/
LOCATION:Northwest Connection Family Resources\, 15896 W 3rd St.\, Hayward\, WI\, 54843\, United States
CATEGORIES:Families Calendar
END:VEVENT
BEGIN:VEVENT
DTSTART;TZID=UTC:20250909T090000
DTEND;TZID=UTC:20250909T103000
DTSTAMP:20260424T163359
CREATED:20250807T152043Z
LAST-MODIFIED:20250807T152043Z
UID:4962-1757408400-1757413800@www.wisconsinchild.org
SUMMARY:Teen Triple P Seminars-Virtual via Zoom
DESCRIPTION:9/9/25 – Raising Responsible Teenagers\n9/16/25 – Raising competent Teenagers\n9/30/25 – Getting Teenagers Connected \n\nLOCATION: Join by ZOOM (link will be sent day of)\nDATES: July 9\,16\,30\nTIME: 9am-10:30am\nCOST: FREE!\n\nRegistration Link: https://forms.gle/2wC4mKCVLoewz2Jj8
URL:https://www.wisconsinchild.org/event/teen-triple-p-seminars-virtual-via-zoom/
LOCATION:ZOOM
CATEGORIES:Families Calendar
END:VEVENT
BEGIN:VEVENT
DTSTART;TZID=UTC:20250908T090000
DTEND;TZID=UTC:20250908T120000
DTSTAMP:20260424T163359
CREATED:20250807T152253Z
LAST-MODIFIED:20250807T152253Z
UID:4964-1757322000-1757332800@www.wisconsinchild.org
SUMMARY:9/8-11/9/2025 Fundamentals of Infant Toddler Care
DESCRIPTION:Fundamentals of Infant and Toddler Care\nSeptember 8-November 9\, 2025\n(Course opens on Sept. 8th\, first class is September 9th)\nDates: September 9 and 30; October 21 and 28 and November 4\, 2026\nTimes: 9am-12pm\n\nCost: $150.00\n\nFinal Registration by Sept. 1\, 2025\n\nFor more information or questions call 715-634-2299 or nwconnection@ncfrwi.net\n\nRegistration Link: https://forms.gle/bC2F7i4brRt43mUm8
URL:https://www.wisconsinchild.org/event/9-8-11-9-2025-fundamentals-of-infant-toddler-care/
LOCATION:ZOOM
CATEGORIES:Provider Calendar
END:VEVENT
BEGIN:VEVENT
DTSTART;TZID=UTC:20250908T090000
DTEND;TZID=UTC:20250908T103000
DTSTAMP:20260424T163359
CREATED:20250807T153355Z
LAST-MODIFIED:20250807T153355Z
UID:4976-1757322000-1757327400@www.wisconsinchild.org
SUMMARY:Parents Interacting with Infants (PIWI)
DESCRIPTION:Parents Interacting with Infants (PIWI) \nA guided playgroup for Caregivers and Infants. \nLOCATION: NCFR\, 15896 W 3rd St.\, Hayward \nDATES: Mondays\, Sept. 8 – Oct. 13\, 2025 \n\nTIME: 9:00am-10:30am\nRegister here: https://forms.gle/LA6NcvZyejhYUcU17
URL:https://www.wisconsinchild.org/event/parents-interacting-with-infants-piwi/
LOCATION:Northwest Connection Family Resources\, 15896 W 3rd St.\, Hayward\, WI\, 54843\, United States
CATEGORIES:Families Calendar
END:VEVENT
BEGIN:VEVENT
DTSTART;TZID=UTC:20250827T160000
DTEND;TZID=UTC:20250827T190000
DTSTAMP:20260424T163359
CREATED:20250807T154457Z
LAST-MODIFIED:20250819T170048Z
UID:4982-1756310400-1756321200@www.wisconsinchild.org
SUMMARY:Winter SD Diaper Bank
DESCRIPTION:  \nTIME IS 4pm to 7pm!! There was a time change. \n 
URL:https://www.wisconsinchild.org/event/winter-sd-diaper-bank/
LOCATION:Winter School District\, 6585 W Grove St.\, winter\, WI\, 54896\, United States
CATEGORIES:Families Calendar
END:VEVENT
BEGIN:VEVENT
DTSTART;TZID=UTC:20250818T180000
DTEND;TZID=UTC:20250818T203000
DTSTAMP:20260424T163359
CREATED:20250807T151715Z
LAST-MODIFIED:20250807T151715Z
UID:4960-1755540000-1755549000@www.wisconsinchild.org
SUMMARY:Introduction to the Child Care Profession Online and Virtual
DESCRIPTION:Introduction to the Child Care Profession\nOnline and Virtual\nDates: 8/18-11/3/2025\nwith Mandatory Zoom sessions: 8/18\, 9/8\, 9/22\, 10/6\, 10/20\, 11/3.\nTime: Zoom sessions:\n6:00pm-8:30pm\nCourse Fee: $150.00\nRegistration Deadline: August 13th \n\nFor more information or questions call 715-634-2299 or send e-mail to nwconnection@ncfrwi.net\n\nRegister here: https://forms.gle/cCDHqCczcQnL2NTr8
URL:https://www.wisconsinchild.org/event/introduction-to-the-child-care-profession-online-and-virtual/
LOCATION:ZOOM
CATEGORIES:Provider Calendar
END:VEVENT
BEGIN:VEVENT
DTSTART;TZID=UTC:20250818T173000
DTEND;TZID=UTC:20250818T190000
DTSTAMP:20260424T163359
CREATED:20250807T152659Z
LAST-MODIFIED:20250807T152659Z
UID:4968-1755538200-1755543600@www.wisconsinchild.org
SUMMARY:TP Behavior at School
DESCRIPTION:When:  8/18/25 \nWhere: In-Person: NCFR or via ZOOM \nTime: 5pm Dinner 5:30pm-7pm \nCost: FREE! \nRegister here: https://forms.gle/hPSF1gdYWqP5SW2q6
URL:https://www.wisconsinchild.org/event/tp-behavior-at-school/
LOCATION:ZOOM
CATEGORIES:Families Calendar
END:VEVENT
BEGIN:VEVENT
DTSTART;TZID=UTC:20250611T083000
DTEND;TZID=UTC:20250611T110000
DTSTAMP:20260424T163359
CREATED:20250515T184109Z
LAST-MODIFIED:20250515T184109Z
UID:4929-1749630600-1749639600@www.wisconsinchild.org
SUMMARY:Strengthening Families
DESCRIPTION:Starting June 11 through August 20\, 8:30am-11:00am. \nRegistration Link: https://forms.gle/Zf3UeiPi7hJEkTCb8 \n 
URL:https://www.wisconsinchild.org/event/strengthening-families/
LOCATION:Northwest Connection Family Resources\, 15896 W 3rd St.\, Hayward\, WI\, 54843\, United States
CATEGORIES:Families Calendar
END:VEVENT
BEGIN:VEVENT
DTSTART;TZID=UTC:20250607T083000
DTEND;TZID=UTC:20250607T160000
DTSTAMP:20260424T163359
CREATED:20250515T190222Z
LAST-MODIFIED:20250515T190222Z
UID:4937-1749285000-1749312000@www.wisconsinchild.org
SUMMARY:Face to Face Group Learning Experience: Supporting Autism in Early Childhood Settings
DESCRIPTION:Registration link: https://go.wiregistry.org/v7/trainings/975431/register
URL:https://www.wisconsinchild.org/event/face-to-face-group-learning-experience-supporting-autism-in-early-childhood-settings/
LOCATION:Northwest Connection Family Resources\, 15896 W 3rd St.\, Hayward\, WI\, 54843\, United States
CATEGORIES:Provider Calendar
END:VEVENT
BEGIN:VEVENT
DTSTART;TZID=UTC:20250602T100000
DTEND;TZID=UTC:20250602T160000
DTSTAMP:20260424T163359
CREATED:20250515T183217Z
LAST-MODIFIED:20250515T183217Z
UID:4926-1748858400-1748880000@www.wisconsinchild.org
SUMMARY:Bee Our Guest: Diaper Pick-Up
DESCRIPTION:
URL:https://www.wisconsinchild.org/event/bee-our-guest-diaper-pick-up/
LOCATION:Northwest Connection Family Resources\, 15896 W 3rd St.\, Hayward\, WI\, 54843\, United States
CATEGORIES:Families Calendar
END:VEVENT
BEGIN:VEVENT
DTSTART;TZID=UTC:20250527T180000
DTEND;TZID=UTC:20250527T210000
DTSTAMP:20260424T163359
CREATED:20250515T184612Z
LAST-MODIFIED:20250515T184612Z
UID:4935-1748368800-1748379600@www.wisconsinchild.org
SUMMARY:Keeping Kids Safe
DESCRIPTION:2025 Virtual Child Care Regulation Sessions Flyer \nfollow link for full information.
URL:https://www.wisconsinchild.org/event/keeping-kids-safe/
LOCATION:Online
CATEGORIES:Provider Calendar
END:VEVENT
BEGIN:VEVENT
DTSTART;TZID=UTC:20250520T180000
DTEND;TZID=UTC:20250520T190000
DTSTAMP:20260424T163359
CREATED:20250515T184508Z
LAST-MODIFIED:20250515T184508Z
UID:4932-1747764000-1747767600@www.wisconsinchild.org
SUMMARY:Virtual Child Care Regulation Session
DESCRIPTION:2025 Virtual Child Care Regulation Sessions Flyer \nfollow the link for more information
URL:https://www.wisconsinchild.org/event/virtual-child-care-regulation-session/
LOCATION:Online
CATEGORIES:Provider Calendar
END:VEVENT
END:VCALENDAR