BEGIN:VCALENDAR
VERSION:2.0
PRODID:-//Northwest Connection - Family Resources - Serving 14 Counties and 7 Tribes in Northern Wisconsin - ECPv6.15.14//NONSGML v1.0//EN
CALSCALE:GREGORIAN
METHOD:PUBLISH
X-WR-CALNAME:Northwest Connection - Family Resources - Serving 14 Counties and 7 Tribes in Northern Wisconsin
X-ORIGINAL-URL:https://www.wisconsinchild.org
X-WR-CALDESC:Events for Northwest Connection - Family Resources - Serving 14 Counties and 7 Tribes in Northern Wisconsin
REFRESH-INTERVAL;VALUE=DURATION:PT1H
X-Robots-Tag:noindex
X-PUBLISHED-TTL:PT1H
BEGIN:VTIMEZONE
TZID:UTC
BEGIN:STANDARD
TZOFFSETFROM:+0000
TZOFFSETTO:+0000
TZNAME:UTC
DTSTART:20240101T000000
END:STANDARD
END:VTIMEZONE
BEGIN:VEVENT
DTSTART;TZID=UTC:20250930T180000
DTEND;TZID=UTC:20250930T210000
DTSTAMP:20260422T044019
CREATED:20250807T151131Z
LAST-MODIFIED:20250807T151219Z
UID:4955-1759255200-1759266000@www.wisconsinchild.org
SUMMARY:Keeping Kids Safe-Virtual on Zoom
DESCRIPTION:Registration Link: https://forms.gle/k7X9Ju3QgPaxqZcd6 \nKeeping Kids Safe includes AHT\, Mandated Reporter and SIDS. \nDates: 1/28\, 3/25\, 5/27\, 7/29\, 9/30 and 11/25/25 \nRegistration Deadline: 1/24\, 3/21\, 5/23\, 7/25\, 9/26 and 11/21/25 \nTime: 6:00-9:00 pm \nWhere: ZOOM Link will be sent by email! Please make sure to check your spam/junk folder.  \nFREE to Potential Providers in the NCFR service delivery area. AHT/SIDS/Mandated Reporter is open to other-$20 registration fee is required to be paid BEFORE the training.  \nQuestions: Email: nwconnection@ncfrwi.net or call 715-634-2299
URL:https://www.wisconsinchild.org/event/keeping-kids-safe-virtual-on-zoom/
LOCATION:ZOOM
CATEGORIES:Provider Calendar
END:VEVENT
END:VCALENDAR