BEGIN:VCALENDAR
VERSION:2.0
PRODID:-//Northwest Connection - Family Resources - Serving 14 Counties and 7 Tribes in Northern Wisconsin - ECPv6.15.14//NONSGML v1.0//EN
CALSCALE:GREGORIAN
METHOD:PUBLISH
X-WR-CALNAME:Northwest Connection - Family Resources - Serving 14 Counties and 7 Tribes in Northern Wisconsin
X-ORIGINAL-URL:https://www.wisconsinchild.org
X-WR-CALDESC:Events for Northwest Connection - Family Resources - Serving 14 Counties and 7 Tribes in Northern Wisconsin
REFRESH-INTERVAL;VALUE=DURATION:PT1H
X-Robots-Tag:noindex
X-PUBLISHED-TTL:PT1H
BEGIN:VTIMEZONE
TZID:UTC
BEGIN:STANDARD
TZOFFSETFROM:+0000
TZOFFSETTO:+0000
TZNAME:UTC
DTSTART:20240101T000000
END:STANDARD
END:VTIMEZONE
BEGIN:VEVENT
DTSTART;TZID=UTC:20250908T090000
DTEND;TZID=UTC:20250908T103000
DTSTAMP:20260422T044357
CREATED:20250807T153355Z
LAST-MODIFIED:20250807T153355Z
UID:4976-1757322000-1757327400@www.wisconsinchild.org
SUMMARY:Parents Interacting with Infants (PIWI)
DESCRIPTION:Parents Interacting with Infants (PIWI) \nA guided playgroup for Caregivers and Infants. \nLOCATION: NCFR\, 15896 W 3rd St.\, Hayward \nDATES: Mondays\, Sept. 8 – Oct. 13\, 2025 \n\nTIME: 9:00am-10:30am\nRegister here: https://forms.gle/LA6NcvZyejhYUcU17
URL:https://www.wisconsinchild.org/event/parents-interacting-with-infants-piwi/
LOCATION:Northwest Connection Family Resources\, 15896 W 3rd St.\, Hayward\, WI\, 54843\, United States
CATEGORIES:Families Calendar
END:VEVENT
BEGIN:VEVENT
DTSTART;TZID=UTC:20250909T090000
DTEND;TZID=UTC:20250909T103000
DTSTAMP:20260422T044357
CREATED:20250807T152043Z
LAST-MODIFIED:20250807T152043Z
UID:4962-1757408400-1757413800@www.wisconsinchild.org
SUMMARY:Teen Triple P Seminars-Virtual via Zoom
DESCRIPTION:9/9/25 – Raising Responsible Teenagers\n9/16/25 – Raising competent Teenagers\n9/30/25 – Getting Teenagers Connected \n\nLOCATION: Join by ZOOM (link will be sent day of)\nDATES: July 9\,16\,30\nTIME: 9am-10:30am\nCOST: FREE!\n\nRegistration Link: https://forms.gle/2wC4mKCVLoewz2Jj8
URL:https://www.wisconsinchild.org/event/teen-triple-p-seminars-virtual-via-zoom/
LOCATION:ZOOM
CATEGORIES:Families Calendar
END:VEVENT
BEGIN:VEVENT
DTSTART;TZID=UTC:20250915T110000
DTEND;TZID=UTC:20250915T170000
DTSTAMP:20260422T044357
CREATED:20250807T154621Z
LAST-MODIFIED:20250807T154621Z
UID:4985-1757934000-1757955600@www.wisconsinchild.org
SUMMARY:Diaper Pick-Up
DESCRIPTION:
URL:https://www.wisconsinchild.org/event/diaper-pick-up/
LOCATION:Northwest Connection Family Resources\, 15896 W 3rd St.\, Hayward\, WI\, 54843\, United States
CATEGORIES:Families Calendar
END:VEVENT
BEGIN:VEVENT
DTSTART;TZID=UTC:20250922T170000
DTEND;TZID=UTC:20250922T200000
DTSTAMP:20260422T044357
CREATED:20250807T150428Z
LAST-MODIFIED:20250807T150428Z
UID:4949-1758560400-1758571200@www.wisconsinchild.org
SUMMARY:Darkness to Light-InPerson
DESCRIPTION:9-22-25 d2l Hayward Library
URL:https://www.wisconsinchild.org/event/darkness-to-light-inperson/
LOCATION:Sherman & Ruth Weiss Community Library\, 10788 State Hwy 27/77\, Hayward\, WI\, 54843\, United States
CATEGORIES:Families Calendar
END:VEVENT
END:VCALENDAR